BEGIN:VCALENDAR
VERSION:2.0
PRODID:-//Ultimate Salon Professionals - ECPv6.15.20//NONSGML v1.0//EN
CALSCALE:GREGORIAN
METHOD:PUBLISH
X-WR-CALNAME:Ultimate Salon Professionals
X-ORIGINAL-URL:https://usphair.com
X-WR-CALDESC:Events for Ultimate Salon Professionals
REFRESH-INTERVAL;VALUE=DURATION:PT1H
X-Robots-Tag:noindex
X-PUBLISHED-TTL:PT1H
BEGIN:VTIMEZONE
TZID:America/Los_Angeles
BEGIN:DAYLIGHT
TZOFFSETFROM:-0800
TZOFFSETTO:-0700
TZNAME:PDT
DTSTART:20220313T100000
END:DAYLIGHT
BEGIN:STANDARD
TZOFFSETFROM:-0700
TZOFFSETTO:-0800
TZNAME:PST
DTSTART:20221106T090000
END:STANDARD
BEGIN:DAYLIGHT
TZOFFSETFROM:-0800
TZOFFSETTO:-0700
TZNAME:PDT
DTSTART:20230312T100000
END:DAYLIGHT
BEGIN:STANDARD
TZOFFSETFROM:-0700
TZOFFSETTO:-0800
TZNAME:PST
DTSTART:20231105T090000
END:STANDARD
BEGIN:DAYLIGHT
TZOFFSETFROM:-0800
TZOFFSETTO:-0700
TZNAME:PDT
DTSTART:20240310T100000
END:DAYLIGHT
BEGIN:STANDARD
TZOFFSETFROM:-0700
TZOFFSETTO:-0800
TZNAME:PST
DTSTART:20241103T090000
END:STANDARD
END:VTIMEZONE
BEGIN:VEVENT
DTSTART;TZID=America/Los_Angeles:20230605T130000
DTEND;TZID=America/Los_Angeles:20230605T160000
DTSTAMP:20260422T152142
CREATED:20230421T205220Z
LAST-MODIFIED:20230801T200527Z
UID:48659-1685970000-1685980800@usphair.com
SUMMARY:ENJOY Cutting Class - June 5 - Summit\, NJ
DESCRIPTION:Louis Capizzi is an experienced and accomplished Advanced Haircut Educator with 36 years of experience in the beauty industry. As a stylist\, salon owner\, and educator\, he has mastered every aspect of the business and is dedicated to helping other stylists unlock their full potential as artists. Louis’s unique approach to haircutting\, called Mojo Cutting\, is designed to help people regain their confidence\, passion\, and enthusiasm for their work. Rather than teaching specific haircuts\, Louis’s goal is to teach a way of cutting that allows you to create any style you can imagine. From foundational techniques to advanced skills\, Louis can help you get your Mojo back and unleash your creativity like never before.
URL:https://usphair.com/event/enjoy-cutting-class-june-5-summit-nj/
LOCATION:Privado Hair Studio\, 5 Beechwood Rd.\, Summit\, 07901
ATTACH;FMTTYPE=image/png:https://usphair.com/wp-content/uploads/2023/04/06052023-Rina-Holeman-Privado-Hair-Salon-enjoy-cutting.png
END:VEVENT
BEGIN:VEVENT
DTSTART;TZID=America/Los_Angeles:20230605T100000
DTEND;TZID=America/Los_Angeles:20230605T123000
DTSTAMP:20260422T152142
CREATED:20230425T221658Z
LAST-MODIFIED:20230801T200601Z
UID:48808-1685959200-1685968200@usphair.com
SUMMARY:ENJOY Cutting Class - June 5 - Stanhope\, NJ
DESCRIPTION:Louis Capizzi is an experienced and accomplished Advanced Haircut Educator with 36 years of experience in the beauty industry. As a stylist\, salon owner\, and educator\, he has mastered every aspect of the business and is dedicated to helping other stylists unlock their full potential as artists. Louis’s unique approach to haircutting\, called Mojo Cutting\, is designed to help people regain their confidence\, passion\, and enthusiasm for their work. Rather than teaching specific haircuts\, Louis’s goal is to teach a way of cutting that allows you to create any style you can imagine. From foundational techniques to advanced skills\, Louis can help you get your Mojo back and unleash your creativity like never before.
URL:https://usphair.com/event/enjoy-cutting-class-june-5-stanhope-nj/
LOCATION:ELEESE Hair Studio\, 8 US 206\, Stanhope\, NJ\, 07874\, United States
ATTACH;FMTTYPE=image/png:https://usphair.com/wp-content/uploads/2023/02/06052023-Rina-Holeman-eleese-hair-studio-enjoy-cutting.png
END:VEVENT
BEGIN:VEVENT
DTSTART;TZID=America/Los_Angeles:20230521T090000
DTEND;TZID=America/Los_Angeles:20230521T170000
DTSTAMP:20260422T152142
CREATED:20230222T193813Z
LAST-MODIFIED:20230606T000015Z
UID:46279-1684659600-1684688400@usphair.com
SUMMARY:ELEMENTS\, a Class by JuanCarlos - May 21st - Walnut Creek
DESCRIPTION:$150.00Read more	\n			\n \nLearn how to create luxurious modern blondes using soft but bold foilayage techniques. Join JuanCarlos and his team for a comprehensive educational experience. In addition to lightener placement\, ELEMENTS will help you understand the WHY behind the technique. This will provide you with the power to solve real problems faced behind the chair. \nDuring the class\, you’ll also learn about: \n\nTheory on bleach & color formulation.\npH scale\nBranding breakdown\nPhotography/Videography\nSocial media\nBusiness\nMuch more\n\nClass Schedule \n9:00AM – 9:30AM Theory / plan of action \n9:30AM – 9:45AM Snack break. \n9:45AM – 12:45PM Live model demonstration \n12:45PM – 1:45PM Lunch break (off site) \n1:45 PM – 3:00PM Theory / color melt \n3:00 PM – 4:30PM Branding / business / social media \n4:30 PM – 5:00PM Model reveal. \n  \nIncluded in ticket purchase: Swag bag\, head sheets\, branding & business plan of action booklet. \n$150.00Read more	\n			\n \n 
URL:https://usphair.com/event/elements-a-class-by-juancarlos-may-21st-walnut-creek/
LOCATION:Manes Salon\, 2341 Boulevard Cir\, Walnut Creek\, CA\, 94595\, United States
ATTACH;FMTTYPE=image/png:https://usphair.com/wp-content/uploads/2023/02/Walnut-Creek-Ca.png
END:VEVENT
BEGIN:VEVENT
DTSTART;TZID=America/Los_Angeles:20230507T090000
DTEND;TZID=America/Los_Angeles:20230507T170000
DTSTAMP:20260422T152142
CREATED:20230222T192331Z
LAST-MODIFIED:20230606T000013Z
UID:46278-1683450000-1683478800@usphair.com
SUMMARY:ELEMENTS\, a Class by JuanCarlos - May 7th - Las Vegas
DESCRIPTION:$150.00Read more	\n			\n \n\nLearn how to create luxurious modern blondes using soft but bold foilayage techniques. Join JuanCarlos and his team for a comprehensive educational experience. In addition to lightener placement\, ELEMENTS will help you understand the WHY behind the technique. This will provide you with the power to solve real problems faced behind the chair. \nDuring the class\, you’ll also learn about: \n\nTheory on bleach & color formulation.\npH scale\nBranding breakdown\nPhotography/Videography\nSocial media\nBusiness\nMuch more\n\nClass Schedule \n9:00AM – 9:30AM Theory / plan of action \n9:30AM – 9:45AM Snack break. \n9:45AM – 12:45PM Live model demonstration \n12:45PM – 1:45PM Lunch break (off site) \n1:45 PM – 3:00PM Theory / color melt \n3:00 PM – 4:30PM Branding / business / social media \n4:30 PM – 5:00PM Model reveal. \n  \nIncluded in ticket purchase: Swag bag\, head sheets\, branding & business plan of action booklet. \n\n$150.00Read more	\n			\n \n\n 
URL:https://usphair.com/event/elements-a-class-by-juancarlos-may-7th-las-vegas/
LOCATION:VIVA Hair Studio\, 10870 W Charleston Blvd #120\, Las Vegas\, NV\, 89135\, United States
ATTACH;FMTTYPE=image/png:https://usphair.com/wp-content/uploads/2023/02/Las-Vegas-NV.png
END:VEVENT
END:VCALENDAR