BEGIN:VCALENDAR
VERSION:2.0
PRODID:-//Ultimate Salon Professionals - ECPv6.15.20//NONSGML v1.0//EN
CALSCALE:GREGORIAN
METHOD:PUBLISH
X-ORIGINAL-URL:https://usphair.com
X-WR-CALDESC:Events for Ultimate Salon Professionals
REFRESH-INTERVAL;VALUE=DURATION:PT1H
X-Robots-Tag:noindex
X-PUBLISHED-TTL:PT1H
BEGIN:VTIMEZONE
TZID:America/Los_Angeles
BEGIN:DAYLIGHT
TZOFFSETFROM:-0800
TZOFFSETTO:-0700
TZNAME:PDT
DTSTART:20250309T100000
END:DAYLIGHT
BEGIN:STANDARD
TZOFFSETFROM:-0700
TZOFFSETTO:-0800
TZNAME:PST
DTSTART:20251102T090000
END:STANDARD
BEGIN:DAYLIGHT
TZOFFSETFROM:-0800
TZOFFSETTO:-0700
TZNAME:PDT
DTSTART:20260308T100000
END:DAYLIGHT
BEGIN:STANDARD
TZOFFSETFROM:-0700
TZOFFSETTO:-0800
TZNAME:PST
DTSTART:20261101T090000
END:STANDARD
BEGIN:DAYLIGHT
TZOFFSETFROM:-0800
TZOFFSETTO:-0700
TZNAME:PDT
DTSTART:20270314T100000
END:DAYLIGHT
BEGIN:STANDARD
TZOFFSETFROM:-0700
TZOFFSETTO:-0800
TZNAME:PST
DTSTART:20271107T090000
END:STANDARD
END:VTIMEZONE
BEGIN:VEVENT
DTSTART;TZID=America/Los_Angeles:20260601T100000
DTEND;TZID=America/Los_Angeles:20260601T113000
DTSTAMP:20260421T180852
CREATED:20260227T174517Z
LAST-MODIFIED:20260302T231024Z
UID:83646-1780308000-1780313400@usphair.com
SUMMARY:Light Work Big Impact with MAGICAL.MASON - June 1st - Zoom
DESCRIPTION:  \nCLASS TAUGHT BY: MAGICAL.MASON \nZoom ID: 829 0368 0713       Zoom Pass: 3679 \n  \nJune 1st 10AM PST on Zoom \nRegister Here: https://usphair.com/education-class-registration/
URL:https://usphair.com/event/light-work-big-impact-with-magical-mason-june-1st-zoom/
LOCATION:Zoom
CATEGORIES:Education
ATTACH;FMTTYPE=application/pdf:https://usphair.com/wp-content/uploads/2026/02/2026-light-work-big-impact.pdf
ORGANIZER;CN="Courtney Fischer":MAILTO:CFISCHER@USPHAIR.COM
END:VEVENT
END:VCALENDAR