BEGIN:VCALENDAR
VERSION:2.0
PRODID:-//Ultimate Salon Professionals - ECPv6.15.20//NONSGML v1.0//EN
CALSCALE:GREGORIAN
METHOD:PUBLISH
X-WR-CALNAME:Ultimate Salon Professionals
X-ORIGINAL-URL:https://usphair.com
X-WR-CALDESC:Events for Ultimate Salon Professionals
REFRESH-INTERVAL;VALUE=DURATION:PT1H
X-Robots-Tag:noindex
X-PUBLISHED-TTL:PT1H
BEGIN:VTIMEZONE
TZID:America/Los_Angeles
BEGIN:DAYLIGHT
TZOFFSETFROM:-0800
TZOFFSETTO:-0700
TZNAME:PDT
DTSTART:20250309T100000
END:DAYLIGHT
BEGIN:STANDARD
TZOFFSETFROM:-0700
TZOFFSETTO:-0800
TZNAME:PST
DTSTART:20251102T090000
END:STANDARD
BEGIN:DAYLIGHT
TZOFFSETFROM:-0800
TZOFFSETTO:-0700
TZNAME:PDT
DTSTART:20260308T100000
END:DAYLIGHT
BEGIN:STANDARD
TZOFFSETFROM:-0700
TZOFFSETTO:-0800
TZNAME:PST
DTSTART:20261101T090000
END:STANDARD
BEGIN:DAYLIGHT
TZOFFSETFROM:-0800
TZOFFSETTO:-0700
TZNAME:PDT
DTSTART:20270314T100000
END:DAYLIGHT
BEGIN:STANDARD
TZOFFSETFROM:-0700
TZOFFSETTO:-0800
TZNAME:PST
DTSTART:20271107T090000
END:STANDARD
END:VTIMEZONE
BEGIN:VEVENT
DTSTART;TZID=America/Los_Angeles:20260212T100000
DTEND;TZID=America/Los_Angeles:20260212T120000
DTSTAMP:20260421T192029
CREATED:20251231T201710Z
LAST-MODIFIED:20260227T173517Z
UID:81807-1770890400-1770897600@usphair.com
SUMMARY:Lightening Demo Class - FEB 12th - Monrovia\, CA
DESCRIPTION:  \nJoin as we discover what the FORMULA 18 Lightening System has to offer. \nElevate your styling prowess as we delve into the secrets of expert hair lightening techniques with FORMULA 18. From balayage brilliance to sun-kissed highlights\, discover the skills that transform your client into a luminous masterpiece. Unleash your creativity and learn the latest trends in color blending and application. \nCLASS TAUGHT BY: ERIKA BLANSET | @ERIKABLANSET \n2/12/2026 10:00am – 12:00pm PST \nLet’s Go Hair Salon\n328 South Myrtle Ave. Monrovia\, CA 91016 \nContact KENNY MCGEE | 626-290-9169 \nCLICK HERE TO REGISTER \n 
URL:https://usphair.com/event/lightening-demo-class-feb-12th-monrovia-ca/
LOCATION:Let’s Go Hair Salon\, 328 South Myrtle Ave.\, Monrovia\, 91016\, United States
ATTACH;FMTTYPE=application/pdf:https://usphair.com/wp-content/uploads/2025/12/Lightening-Class-EXAMPLE-7.pdf
END:VEVENT
BEGIN:VEVENT
DTSTART;TZID=America/Los_Angeles:20260216T100000
DTEND;TZID=America/Los_Angeles:20260216T113000
DTSTAMP:20260421T192029
CREATED:20260119T183303Z
LAST-MODIFIED:20260227T173511Z
UID:82421-1771236000-1771241400@usphair.com
SUMMARY:Science and Foundation with Savannah Rae - Feb 16th - Zoom
DESCRIPTION:DIVE  DEEP  INTO FORMULA 18 \nCLASS TAUGHT BY: Savannah Rae | @SAVANNAHRAEHAIR \nFebruary 16th 10AM PST on Zoom \nRegister Here: https://usphair.com/education-class-registration/
URL:https://usphair.com/event/science-and-foundation-with-savannah-rae-feb-16th-zoom/
LOCATION:Zoom
ATTACH;FMTTYPE=image/png:https://usphair.com/wp-content/uploads/2026/01/savannah-16th.png
ORGANIZER;CN="Courtney Fischer":MAILTO:CFISCHER@USPHAIR.COM
END:VEVENT
BEGIN:VEVENT
DTSTART;TZID=America/Los_Angeles:20260323T100000
DTEND;TZID=America/Los_Angeles:20260323T113000
DTSTAMP:20260421T192029
CREATED:20260303T232612Z
LAST-MODIFIED:20260303T232612Z
UID:83749-1774260000-1774265400@usphair.com
SUMMARY:Extension Care with AMANDA FRAZIER - March 23rd - Zoom
DESCRIPTION:Extension Care \nCLASS TAUGHT BY: AMANDA FRAZIER | @amandafrazierhairvixen \nZoom ID: 850 1812 9365       Zoom Pass: 2035 \n  \nMarch 23th 10AM PST on Zoom \nRegister Here: https://usphair.com/education-class-registration/
URL:https://usphair.com/event/extension-care-with-amanda-frazier-march-23rd-zoom/
LOCATION:Zoom
CATEGORIES:Education
ATTACH;FMTTYPE=application/pdf:https://usphair.com/wp-content/uploads/2026/03/Hair-Extensions-march-2026-amamnda.pdf
ORGANIZER;CN="Courtney Fischer":MAILTO:CFISCHER@USPHAIR.COM
END:VEVENT
BEGIN:VEVENT
DTSTART;TZID=America/Los_Angeles:20260324T100000
DTEND;TZID=America/Los_Angeles:20260324T113000
DTSTAMP:20260421T192029
CREATED:20260119T182658Z
LAST-MODIFIED:20260304T234902Z
UID:82341-1774346400-1774351800@usphair.com
SUMMARY:Hair Extensions with Amanda Frazier - March 24th - Zoom
DESCRIPTION:  \nEXPLORE \n\nPrep\nTips and Tricks\nExclusive Insight\nAftercare for Service\nMaintenance\n\nCLASS TAUGHT BY: Amanda Frazier | @AMANDAFRAZIERHAIRVIXEN \nMarch 24th 10AM PST on Zoom \nRegister Here: https://usphair.com/education-class-registration/
URL:https://usphair.com/event/hair-extensions-with-amanda-frazier-march-24th-zoom/
LOCATION:Zoom
ATTACH;FMTTYPE=application/pdf:https://usphair.com/wp-content/uploads/2026/01/Hair-Extensions.pdf
ORGANIZER;CN="Courtney Fischer":MAILTO:CFISCHER@USPHAIR.COM
END:VEVENT
BEGIN:VEVENT
DTSTART;TZID=America/Los_Angeles:20260413T100000
DTEND;TZID=America/Los_Angeles:20260413T113000
DTSTAMP:20260421T192029
CREATED:20260227T173841Z
LAST-MODIFIED:20260302T231341Z
UID:83641-1776074400-1776079800@usphair.com
SUMMARY:Spring Has Sprung with MAGICAL.MASON - April 13th - Zoom
DESCRIPTION:Join us for a focused class on how FORMULA 18 supports the perfect light\, brightening services for spring. \nLearn how to strengthen and protect the hair during lifting so you can achieve luminous\, healthy looking blonde results with confidence. \nCLASS TAUGHT BY: MAGICAL.MASON \nZoom ID: 829 9417 1553       Zoom Pass: 1825 \n  \nApril 13th 10AM PST on Zoom \nRegister Here: https://usphair.com/education-class-registration/
URL:https://usphair.com/event/spring-has-sprung-with-magical-mason-april-14th-zoom/
LOCATION:Zoom
CATEGORIES:Education
ATTACH;FMTTYPE=application/pdf:https://usphair.com/wp-content/uploads/2026/02/2026-SPRING-has-sprung.pdf
ORGANIZER;CN="Courtney Fischer":MAILTO:CFISCHER@USPHAIR.COM
END:VEVENT
BEGIN:VEVENT
DTSTART;TZID=America/Los_Angeles:20260601T100000
DTEND;TZID=America/Los_Angeles:20260601T113000
DTSTAMP:20260421T192029
CREATED:20260227T174517Z
LAST-MODIFIED:20260302T231024Z
UID:83646-1780308000-1780313400@usphair.com
SUMMARY:Light Work Big Impact with MAGICAL.MASON - June 1st - Zoom
DESCRIPTION:  \nCLASS TAUGHT BY: MAGICAL.MASON \nZoom ID: 829 0368 0713       Zoom Pass: 3679 \n  \nJune 1st 10AM PST on Zoom \nRegister Here: https://usphair.com/education-class-registration/
URL:https://usphair.com/event/light-work-big-impact-with-magical-mason-june-1st-zoom/
LOCATION:Zoom
CATEGORIES:Education
ATTACH;FMTTYPE=application/pdf:https://usphair.com/wp-content/uploads/2026/02/2026-light-work-big-impact.pdf
ORGANIZER;CN="Courtney Fischer":MAILTO:CFISCHER@USPHAIR.COM
END:VEVENT
END:VCALENDAR