BEGIN:VCALENDAR
VERSION:2.0
PRODID:-//Ultimate Salon Professionals - ECPv6.15.20//NONSGML v1.0//EN
CALSCALE:GREGORIAN
METHOD:PUBLISH
X-WR-CALNAME:Ultimate Salon Professionals
X-ORIGINAL-URL:https://usphair.com
X-WR-CALDESC:Events for Ultimate Salon Professionals
REFRESH-INTERVAL;VALUE=DURATION:PT1H
X-Robots-Tag:noindex
X-PUBLISHED-TTL:PT1H
BEGIN:VTIMEZONE
TZID:America/Los_Angeles
BEGIN:DAYLIGHT
TZOFFSETFROM:-0800
TZOFFSETTO:-0700
TZNAME:PDT
DTSTART:20250309T100000
END:DAYLIGHT
BEGIN:STANDARD
TZOFFSETFROM:-0700
TZOFFSETTO:-0800
TZNAME:PST
DTSTART:20251102T090000
END:STANDARD
BEGIN:DAYLIGHT
TZOFFSETFROM:-0800
TZOFFSETTO:-0700
TZNAME:PDT
DTSTART:20260308T100000
END:DAYLIGHT
BEGIN:STANDARD
TZOFFSETFROM:-0700
TZOFFSETTO:-0800
TZNAME:PST
DTSTART:20261101T090000
END:STANDARD
BEGIN:DAYLIGHT
TZOFFSETFROM:-0800
TZOFFSETTO:-0700
TZNAME:PDT
DTSTART:20270314T100000
END:DAYLIGHT
BEGIN:STANDARD
TZOFFSETFROM:-0700
TZOFFSETTO:-0800
TZNAME:PST
DTSTART:20271107T090000
END:STANDARD
END:VTIMEZONE
BEGIN:VEVENT
DTSTART;TZID=America/Los_Angeles:20260212T100000
DTEND;TZID=America/Los_Angeles:20260212T120000
DTSTAMP:20260421T141803
CREATED:20251231T201710Z
LAST-MODIFIED:20260227T173517Z
UID:81807-1770890400-1770897600@usphair.com
SUMMARY:Lightening Demo Class - FEB 12th - Monrovia\, CA
DESCRIPTION:  \nJoin as we discover what the FORMULA 18 Lightening System has to offer. \nElevate your styling prowess as we delve into the secrets of expert hair lightening techniques with FORMULA 18. From balayage brilliance to sun-kissed highlights\, discover the skills that transform your client into a luminous masterpiece. Unleash your creativity and learn the latest trends in color blending and application. \nCLASS TAUGHT BY: ERIKA BLANSET | @ERIKABLANSET \n2/12/2026 10:00am – 12:00pm PST \nLet’s Go Hair Salon\n328 South Myrtle Ave. Monrovia\, CA 91016 \nContact KENNY MCGEE | 626-290-9169 \nCLICK HERE TO REGISTER \n 
URL:https://usphair.com/event/lightening-demo-class-feb-12th-monrovia-ca/
LOCATION:Let’s Go Hair Salon\, 328 South Myrtle Ave.\, Monrovia\, 91016\, United States
ATTACH;FMTTYPE=application/pdf:https://usphair.com/wp-content/uploads/2025/12/Lightening-Class-EXAMPLE-7.pdf
END:VEVENT
END:VCALENDAR