BEGIN:VCALENDAR
VERSION:2.0
PRODID:-//Ultimate Salon Professionals - ECPv6.15.20//NONSGML v1.0//EN
CALSCALE:GREGORIAN
METHOD:PUBLISH
X-ORIGINAL-URL:https://usphair.com
X-WR-CALDESC:Events for Ultimate Salon Professionals
REFRESH-INTERVAL;VALUE=DURATION:PT1H
X-Robots-Tag:noindex
X-PUBLISHED-TTL:PT1H
BEGIN:VTIMEZONE
TZID:America/Los_Angeles
BEGIN:DAYLIGHT
TZOFFSETFROM:-0800
TZOFFSETTO:-0700
TZNAME:PDT
DTSTART:20240310T100000
END:DAYLIGHT
BEGIN:STANDARD
TZOFFSETFROM:-0700
TZOFFSETTO:-0800
TZNAME:PST
DTSTART:20241103T090000
END:STANDARD
BEGIN:DAYLIGHT
TZOFFSETFROM:-0800
TZOFFSETTO:-0700
TZNAME:PDT
DTSTART:20250309T100000
END:DAYLIGHT
BEGIN:STANDARD
TZOFFSETFROM:-0700
TZOFFSETTO:-0800
TZNAME:PST
DTSTART:20251102T090000
END:STANDARD
BEGIN:DAYLIGHT
TZOFFSETFROM:-0800
TZOFFSETTO:-0700
TZNAME:PDT
DTSTART:20260308T100000
END:DAYLIGHT
BEGIN:STANDARD
TZOFFSETFROM:-0700
TZOFFSETTO:-0800
TZNAME:PST
DTSTART:20261101T090000
END:STANDARD
END:VTIMEZONE
BEGIN:VEVENT
DTSTART;TZID=America/Los_Angeles:20250825T110000
DTEND;TZID=America/Los_Angeles:20250825T123000
DTSTAMP:20260422T010326
CREATED:20250723T190014Z
LAST-MODIFIED:20250825T202519Z
UID:77021-1756119600-1756125000@usphair.com
SUMMARY:LIVED IN BLONDE with Amanda Frazier -  8/25
DESCRIPTION:  \nCLASS TAUGHT BY: Amanda Frazier | @AMANDAFRAZIERHAIRVIXEN \n  \nRegister Here: https://usphair.com/education-class-registration/
URL:https://usphair.com/event/lived-in-blonde-with-amanda-frazier-8-25/
LOCATION:Zoom
ATTACH;FMTTYPE=image/png:https://usphair.com/wp-content/uploads/2025/07/july24.png
ORGANIZER;CN="Courtney Fischer":MAILTO:CFISCHER@USPHAIR.COM
END:VEVENT
END:VCALENDAR